BEGIN:VCALENDAR
VERSION:2.0
PRODID:-//Squarespace Inc/Squarespace 6//v6//EN
BEGIN:VEVENT
UID:5dea5c21ba52905881ace20a@squarespace.com
DTSTAMP:20191206T135846Z
DTSTART:20200104T083000Z
DTEND:20200104T103000Z
SUMMARY:Bible Study
END:VEVENT
END:VCALENDAR
