BEGIN:VCALENDAR
VERSION:2.0
PRODID:-//Squarespace Inc/Squarespace 6//v6//EN
BEGIN:VEVENT
UID:5f2faa367a71f50a8494e7af@squarespace.com
DTSTAMP:20200809T074909Z
DTSTART:20201010T083000Z
DTEND:20201010T103000Z
SUMMARY:Bible Study
END:VEVENT
END:VCALENDAR
