BEGIN:VCALENDAR
VERSION:2.0
PRODID:-//Squarespace Inc/Squarespace 6//v6//EN
BEGIN:VEVENT
UID:5f2faa80701690209e230d2f@squarespace.com
DTSTAMP:20200809T075607Z
DTSTART:20201017T083000Z
DTEND:20201017T103000Z
SUMMARY:Bible Study/ Meal
END:VEVENT
END:VCALENDAR
