BEGIN:VCALENDAR
VERSION:2.0
PRODID:-//Squarespace Inc/Squarespace 6//v6//EN
BEGIN:VEVENT
UID:5f2faaca649257471c5026a3@squarespace.com
DTSTAMP:20200902T123705Z
DTSTART:20201024T083000Z
DTEND:20201024T103000Z
SUMMARY:Hebrew Study
END:VEVENT
END:VCALENDAR
