BEGIN:VCALENDAR
VERSION:2.0
PRODID:-//Squarespace Inc/Squarespace 6//v6//EN
BEGIN:VEVENT
UID:5f2fa9e6a13a6d7ea8f6ce68@squarespace.com
DTSTAMP:20200809T075555Z
DTSTART:20201003T083000Z
DTEND:20201003T103000Z
SUMMARY:Bible Study/ Meal
END:VEVENT
END:VCALENDAR
