BEGIN:VCALENDAR
VERSION:2.0
PRODID:-//Squarespace Inc/Squarespace 6//v6//EN
BEGIN:VEVENT
UID:5f2fab1105889f0bcc647195@squarespace.com
DTSTAMP:20200809T080815Z
DTSTART:20201101T043000Z
DTEND:20201101T073000Z
SUMMARY:Spring BBQ
END:VEVENT
END:VCALENDAR
