BEGIN:VCALENDAR
VERSION:2.0
PRODID:-//Squarespace Inc/Squarespace 6//v6//EN
BEGIN:VEVENT
UID:5faf3f821c7089551ae7f718@squarespace.com
DTSTAMP:20201114T034542Z
DTSTART:20201114T083000Z
DTEND:20201114T103000Z
SUMMARY:A study on doctrine / Meal
GEO:-32.014234;115.93152
LOCATION:Mustard Seed Community Church
END:VEVENT
END:VCALENDAR
