BEGIN:VCALENDAR
VERSION:2.0
PRODID:-//Squarespace Inc/Squarespace 6//v6//EN
BEGIN:VEVENT
UID:5faf40fe2bb93a1ea2bcffd8@squarespace.com
DTSTAMP:20201120T113250Z
DTSTART:20201128T083000Z
DTEND:20201128T103000Z
SUMMARY:Hebrew Study/Meal
GEO:-32.012683;115.933617
LOCATION:Mustard Seed Community Church\, George Way\, Cannington\, WA\, 610
 7\, Australia
END:VEVENT
END:VCALENDAR
