BEGIN:VCALENDAR
VERSION:2.0
PRODID:-//Squarespace Inc/Squarespace 6//v6//EN
BEGIN:VEVENT
UID:5f2fac407a71f50a84950883@squarespace.com
DTSTAMP:20200809T075808Z
DTSTART:20201107T083000Z
DTEND:20201107T103000Z
SUMMARY:Bible Study
END:VEVENT
END:VCALENDAR
