BEGIN:VCALENDAR
VERSION:2.0
PRODID:-//Squarespace Inc/Squarespace 6//v6//EN
BEGIN:VEVENT
UID:5faf433b0e8bbf646f3c3365@squarespace.com
DTSTAMP:20201120T113455Z
DTSTART:20201212T083000Z
DTEND:20201212T103000Z
SUMMARY:Bible Study
GEO:-32.012683;115.933617
LOCATION:Mustard Seed Community Church\, George Way\, Cannington\, WA\, 610
 7\, Australia
END:VEVENT
END:VCALENDAR
