BEGIN:VCALENDAR
VERSION:2.0
PRODID:-//Squarespace Inc/Squarespace 6//v6//EN
BEGIN:VEVENT
UID:5faf43e4907152766606258a@squarespace.com
DTSTAMP:20201120T113526Z
DTSTART:20201219T083000Z
DTEND:20201219T103000Z
SUMMARY:Bible Study / Meal
GEO:-32.012683;115.933617
LOCATION:Mustard Seed Community Church\, George Way\, Cannington\, WA\, 610
 7\, Australia
END:VEVENT
END:VCALENDAR
