BEGIN:VCALENDAR
VERSION:2.0
PRODID:-//Squarespace Inc/Squarespace 6//v6//EN
BEGIN:VEVENT
UID:5faf454654d7bd32bafb2548@squarespace.com
DTSTAMP:20201114T032203Z
DTSTART:20201225T200000Z
DTEND:20201225T210000Z
SUMMARY:No Service today
GEO:-32.014234;115.93152
LOCATION:Mustard Seed Community Church
END:VEVENT
END:VCALENDAR
