BEGIN:VCALENDAR
VERSION:2.0
PRODID:-//Squarespace Inc/Squarespace 6//v6//EN
BEGIN:VEVENT
UID:5faf41f31c7089551ae83e47@squarespace.com
DTSTAMP:20201129T065047Z
DTSTART:20201205T083000Z
DTEND:20201205T103000Z
SUMMARY:Bible Study
GEO:-32.012683;115.933617
LOCATION:Mustard Seed Community Church\, George Way\, Cannington\, WA\, 610
 7\, Australia
END:VEVENT
END:VCALENDAR
