BEGIN:VCALENDAR
VERSION:2.0
PRODID:-//Squarespace Inc/Squarespace 6//v6//EN
BEGIN:VEVENT
UID:5faf428954d7bd32bafae352@squarespace.com
DTSTAMP:20201120T113426Z
DTSTART:20201206T020000Z
DTEND:20201206T060000Z
SUMMARY:MSCC Picnic
GEO:-31.984241;115.920064
LOCATION:Mustard Seed Community Church\, Oats Street\, Carlisle\, WA\, 6101
 \, Australia
END:VEVENT
END:VCALENDAR
