BEGIN:VCALENDAR
VERSION:2.0
PRODID:-//Squarespace Inc/Squarespace 6//v6//EN
BEGIN:VEVENT
UID:5e32c2671e28eb2e4b1c0d76@squarespace.com
DTSTAMP:20200130T115021Z
DTSTART:20200201T083000Z
DTEND:20200201T103000Z
SUMMARY:A study on doctrine
END:VEVENT
END:VCALENDAR
