BEGIN:VCALENDAR
VERSION:2.0
PRODID:-//Squarespace Inc/Squarespace 6//v6//EN
BEGIN:VEVENT
UID:5e32c40bcd95a406db18babd@squarespace.com
DTSTAMP:20200130T120402Z
DTSTART:20200215T083000Z
DTEND:20200215T103000Z
SUMMARY:Bible Study
END:VEVENT
END:VCALENDAR
