BEGIN:VCALENDAR
VERSION:2.0
PRODID:-//Squarespace Inc/Squarespace 6//v6//EN
BEGIN:VEVENT
UID:5e32c528d36e1a619049a5fd@squarespace.com
DTSTAMP:20200130T120310Z
DTSTART:20200222T083000Z
DTEND:20200222T103000Z
SUMMARY:Appointment of Pastor
END:VEVENT
END:VCALENDAR
