BEGIN:VCALENDAR
VERSION:2.0
PRODID:-//Squarespace Inc/Squarespace 6//v6//EN
BEGIN:VEVENT
UID:5e32c66a36caa114685e4437@squarespace.com
DTSTAMP:20200227T112012Z
DTSTART:20200301T090000Z
DTEND:20200301T110000Z
SUMMARY:Church United
END:VEVENT
END:VCALENDAR
