BEGIN:VCALENDAR
VERSION:2.0
PRODID:-//Squarespace Inc/Squarespace 6//v6//EN
BEGIN:VEVENT
UID:5e32c30cf8043d07500b6c19@squarespace.com
DTSTAMP:20200130T125813Z
DTSTART:20200208T083000Z
DTEND:20200208T103000Z
SUMMARY:Bible Study
END:VEVENT
END:VCALENDAR
