BEGIN:VCALENDAR
VERSION:2.0
PRODID:-//Squarespace Inc/Squarespace 6//v6//EN
BEGIN:VEVENT
UID:5e5facd0fb61a745961c15c2@squarespace.com
DTSTAMP:20200304T132855Z
DTSTART:20200314T083000Z
DTEND:20200314T103000Z
SUMMARY:Bible Study
END:VEVENT
END:VCALENDAR
