BEGIN:VCALENDAR
VERSION:2.0
PRODID:-//Squarespace Inc/Squarespace 6//v6//EN
BEGIN:VEVENT
UID:5e5fadfaecc23353b7426e2d@squarespace.com
DTSTAMP:20200322T024606Z
DTSTART:20200329T090000Z
DTEND:20200329T113000Z
SUMMARY:Church United
END:VEVENT
END:VCALENDAR
