BEGIN:VCALENDAR
VERSION:2.0
PRODID:-//Squarespace Inc/Squarespace 6//v6//EN
BEGIN:VEVENT
UID:5e5faebcadc7455957cd4e5c@squarespace.com
DTSTAMP:20200405T065920Z
DTSTART:20200411T083000Z
DTEND:20200411T123000Z
SUMMARY:Hebrew study via Skype
END:VEVENT
END:VCALENDAR
