BEGIN:VCALENDAR
VERSION:2.0
PRODID:-//Squarespace Inc/Squarespace 6//v6//EN
BEGIN:VEVENT
UID:5e5faf4cf4cda81d018b93d8@squarespace.com
DTSTAMP:20200405T065525Z
DTSTART:20200418T083000Z
DTEND:20200418T103000Z
SUMMARY:Bible Study via Skype
END:VEVENT
END:VCALENDAR
