BEGIN:VCALENDAR
VERSION:2.0
PRODID:-//Squarespace Inc/Squarespace 6//v6//EN
BEGIN:VEVENT
UID:5e5faf9caab3395b07b739f4@squarespace.com
DTSTAMP:20200405T070526Z
DTSTART:20200425T083000Z
DTEND:20200425T110000Z
SUMMARY:A study on doctrine via Skype
END:VEVENT
END:VCALENDAR
