BEGIN:VCALENDAR
VERSION:2.0
PRODID:-//Squarespace Inc/Squarespace 6//v6//EN
BEGIN:VEVENT
UID:5e5fae79f11c1e302ec2b1b3@squarespace.com
DTSTAMP:20200322T024057Z
DTSTART:20200404T083000Z
DTEND:20200404T103000Z
SUMMARY:Bible Study
END:VEVENT
END:VCALENDAR
