BEGIN:VCALENDAR
VERSION:2.0
PRODID:-//Squarespace Inc/Squarespace 6//v6//EN
BEGIN:VEVENT
UID:5e897c28a6d99b3f78c2a034@squarespace.com
DTSTAMP:20200515T095119Z
DTSTART:20200516T083000Z
DTEND:20200516T103000Z
SUMMARY:Bible Study now at Bashams or Skype
END:VEVENT
END:VCALENDAR
