BEGIN:VCALENDAR
VERSION:2.0
PRODID:-//Squarespace Inc/Squarespace 6//v6//EN
BEGIN:VEVENT
UID:5e897b48138b9761efa094b8@squarespace.com
DTSTAMP:20200405T065452Z
DTSTART:20200502T083000Z
DTEND:20200502T103000Z
SUMMARY:Bible Study via Skype
END:VEVENT
END:VCALENDAR
