BEGIN:VCALENDAR
VERSION:2.0
PRODID:-//Squarespace Inc/Squarespace 6//v6//EN
BEGIN:VEVENT
UID:5e897df394f18a065255ca0b@squarespace.com
DTSTAMP:20200515T095151Z
DTSTART:20200523T083000Z
DTEND:20200523T103000Z
SUMMARY:Hebrew study now at Bashams or Skype
END:VEVENT
END:VCALENDAR
