BEGIN:VCALENDAR
VERSION:2.0
PRODID:-//Squarespace Inc/Squarespace 6//v6//EN
BEGIN:VEVENT
UID:5e897f839355142d1e8958d5@squarespace.com
DTSTAMP:20200524T025055Z
DTSTART:20200530T083000Z
DTEND:20200530T103000Z
SUMMARY:Mustard Seed Bible Study
END:VEVENT
END:VCALENDAR
