BEGIN:VCALENDAR
VERSION:2.0
PRODID:-//Squarespace Inc/Squarespace 6//v6//EN
BEGIN:VEVENT
UID:5e897bbfea5e1555e80ac3ba@squarespace.com
DTSTAMP:20200405T065506Z
DTSTART:20200509T083000Z
DTEND:20200509T103000Z
SUMMARY:Bible Study via Skype
END:VEVENT
END:VCALENDAR
