BEGIN:VCALENDAR
VERSION:2.0
PRODID:-//Squarespace Inc/Squarespace 6//v6//EN
BEGIN:VEVENT
UID:5e89804379e6836f5fb080a2@squarespace.com
DTSTAMP:20200524T025220Z
DTSTART:20200613T083000Z
DTEND:20200613T103000Z
SUMMARY:Bible Study at Bashams or Skype
END:VEVENT
END:VCALENDAR
