BEGIN:VCALENDAR
VERSION:2.0
PRODID:-//Squarespace Inc/Squarespace 6//v6//EN
BEGIN:VEVENT
UID:5e8981dd79e6836f5fb09921@squarespace.com
DTSTAMP:20200524T025303Z
DTSTART:20200620T083000Z
DTEND:20200620T103000Z
SUMMARY:Hebrew Study at Bashams or Skype
END:VEVENT
END:VCALENDAR
