BEGIN:VCALENDAR
VERSION:2.0
PRODID:-//Squarespace Inc/Squarespace 6//v6//EN
BEGIN:VEVENT
UID:5e897fded7a6d83f2fffec8e@squarespace.com
DTSTAMP:20200515T095327Z
DTSTART:20200606T083000Z
DTEND:20200606T103000Z
SUMMARY:Bible Study now at Bashams or Skype
END:VEVENT
END:VCALENDAR
