BEGIN:VCALENDAR
VERSION:2.0
PRODID:-//Squarespace Inc/Squarespace 6//v6//EN
BEGIN:VEVENT
UID:5ef881d0dfbc365adaab4ba6@squarespace.com
DTSTAMP:20200628T120540Z
DTSTART:20200711T083000Z
DTEND:20200711T103000Z
SUMMARY:Bible Study
END:VEVENT
END:VCALENDAR
