BEGIN:VCALENDAR
VERSION:2.0
PRODID:-//Squarespace Inc/Squarespace 6//v6//EN
BEGIN:VEVENT
UID:5ef88231287bbd2ec28bbb09@squarespace.com
DTSTAMP:20200628T114451Z
DTSTART:20200718T083000Z
DTEND:20200718T103000Z
SUMMARY:Bible Study
END:VEVENT
END:VCALENDAR
