BEGIN:VCALENDAR
VERSION:2.0
PRODID:-//Squarespace Inc/Squarespace 6//v6//EN
BEGIN:VEVENT
UID:5ef882c1068552405e5e988c@squarespace.com
DTSTAMP:20200628T115819Z
DTSTART:20200725T083000Z
DTEND:20200725T103000Z
SUMMARY:Hebrew Study
END:VEVENT
END:VCALENDAR
