BEGIN:VCALENDAR
VERSION:2.0
PRODID:-//Squarespace Inc/Squarespace 6//v6//EN
BEGIN:VEVENT
UID:5ef8812e5708dc5cb9cbcd4e@squarespace.com
DTSTAMP:20200628T114051Z
DTSTART:20200704T083000Z
DTEND:20200704T103000Z
SUMMARY:Bible Study
END:VEVENT
END:VCALENDAR
