BEGIN:VCALENDAR
VERSION:2.0
PRODID:-//Squarespace Inc/Squarespace 6//v6//EN
BEGIN:VEVENT
UID:5ef88352068552405e5ea22f@squarespace.com
DTSTAMP:20200628T114910Z
DTSTART:20200801T083000Z
DTEND:20200801T103000Z
SUMMARY:Bible Study
END:VEVENT
END:VCALENDAR
