BEGIN:VCALENDAR
VERSION:2.0
PRODID:-//Squarespace Inc/Squarespace 6//v6//EN
BEGIN:VEVENT
UID:5ef88509e2b6dd59a6007af0@squarespace.com
DTSTAMP:20200628T115557Z
DTSTART:20200815T083000Z
DTEND:20200815T103000Z
SUMMARY:Bible Study
END:VEVENT
END:VCALENDAR
