BEGIN:VCALENDAR
VERSION:2.0
PRODID:-//Squarespace Inc/Squarespace 6//v6//EN
BEGIN:VEVENT
UID:5ef88416287bbd2ec28bd92c@squarespace.com
DTSTAMP:20200809T075509Z
DTSTART:20200822T083000Z
DTEND:20200822T103000Z
SUMMARY:Hebrew/ Meal
END:VEVENT
END:VCALENDAR
