BEGIN:VCALENDAR
VERSION:2.0
PRODID:-//Squarespace Inc/Squarespace 6//v6//EN
BEGIN:VEVENT
UID:5ef88560fb8ae15cc0f840df@squarespace.com
DTSTAMP:20200628T115724Z
DTSTART:20200829T083000Z
DTEND:20200829T103000Z
SUMMARY:Bible Study
END:VEVENT
END:VCALENDAR
