BEGIN:VCALENDAR
VERSION:2.0
PRODID:-//Squarespace Inc/Squarespace 6//v6//EN
BEGIN:VEVENT
UID:5ef883c1fb8ae15cc0f81fc9@squarespace.com
DTSTAMP:20200628T115035Z
DTSTART:20200808T083000Z
DTEND:20200808T103000Z
SUMMARY:Bible Study
END:VEVENT
END:VCALENDAR
