BEGIN:VCALENDAR
VERSION:2.0
PRODID:-//Squarespace Inc/Squarespace 6//v6//EN
BEGIN:VEVENT
UID:5f2fa8b105889f0bcc644e0d@squarespace.com
DTSTAMP:20200809T074301Z
DTSTART:20200912T083000Z
DTEND:20200912T103000Z
SUMMARY:Bible Study
END:VEVENT
END:VCALENDAR
