BEGIN:VCALENDAR
VERSION:2.0
PRODID:-//Squarespace Inc/Squarespace 6//v6//EN
BEGIN:VEVENT
UID:5f2fa90f4c60823daada412c@squarespace.com
DTSTAMP:20200809T080024Z
DTSTART:20200919T083000Z
DTEND:20200919T103000Z
SUMMARY:Hebrew/ Meal
END:VEVENT
END:VCALENDAR
