BEGIN:VCALENDAR
VERSION:2.0
PRODID:-//Squarespace Inc/Squarespace 6//v6//EN
BEGIN:VEVENT
UID:5f2fa99a9fded4095ddb1250@squarespace.com
DTSTAMP:20200902T123451Z
DTSTART:20200926T083000Z
DTEND:20200926T103000Z
SUMMARY:Bible Study
END:VEVENT
END:VCALENDAR
