BEGIN:VCALENDAR
VERSION:2.0
PRODID:-//Squarespace Inc/Squarespace 6//v6//EN
BEGIN:VEVENT
UID:5f2fa84905889f0bcc6447e5@squarespace.com
DTSTAMP:20200902T123540Z
DTSTART:20200905T083000Z
DTEND:20200905T103000Z
SUMMARY:Bible Study/ Meal
END:VEVENT
END:VCALENDAR
