BEGIN:VCALENDAR
VERSION:2.0
PRODID:-//Squarespace Inc/Squarespace 6//v6//EN
BEGIN:VEVENT
UID:5faf468a1cc5cc662283fe32@squarespace.com
DTSTAMP:20201120T113646Z
DTSTART:20210116T083000Z
DTEND:20210116T103000Z
SUMMARY:Hebrew Study
GEO:-32.012683;115.933617
LOCATION:Mustard Seed Community Church\, George Way\, Cannington\, WA\, 610
 7\, Australia
END:VEVENT
END:VCALENDAR
