BEGIN:VCALENDAR
VERSION:2.0
PRODID:-//Squarespace Inc/Squarespace 6//v6//EN
BEGIN:VEVENT
UID:5faf4757f8f3f14190ade14a@squarespace.com
DTSTAMP:20201120T113733Z
DTSTART:20210130T083000Z
DTEND:20210130T103000Z
SUMMARY:Bible Study / Meal
GEO:-32.012683;115.933617
LOCATION:Mustard Seed Community Church\, George Way\, Cannington\, WA\, 610
 7\, Australia
END:VEVENT
END:VCALENDAR
