BEGIN:VCALENDAR
VERSION:2.0
PRODID:-//Squarespace Inc/Squarespace 6//v6//EN
BEGIN:VEVENT
UID:602523e59dcab26d7e56366d@squarespace.com
DTSTAMP:20210211T124446Z
DTSTART:20210213T083000Z
DTEND:20210213T103000Z
SUMMARY:Bible Study
GEO:-32.014234;115.93152
LOCATION:Mustard Seed Community Church
END:VEVENT
END:VCALENDAR
