BEGIN:VCALENDAR
VERSION:2.0
PRODID:-//Squarespace Inc/Squarespace 6//v6//EN
BEGIN:VEVENT
UID:6023c0797a0ec6022d861d22@squarespace.com
DTSTAMP:20210211T124313Z
DTSTART:20210206T083000Z
DTEND:20210206T103000Z
SUMMARY:Bible Study
GEO:-32.014234;115.93152
LOCATION:Mustard Seed Community Church
END:VEVENT
END:VCALENDAR
